BEGIN:VCALENDAR
VERSION:2.0
PRODID:-//FAMILY SUPPORT | Elternbildung &amp; Ausbildung mit Konzept - ECPv6.15.17.1//NONSGML v1.0//EN
CALSCALE:GREGORIAN
METHOD:PUBLISH
X-WR-CALNAME:FAMILY SUPPORT | Elternbildung &amp; Ausbildung mit Konzept
X-ORIGINAL-URL:https://family-support.net
X-WR-CALDESC:Veranstaltungen für FAMILY SUPPORT | Elternbildung &amp; Ausbildung mit Konzept
REFRESH-INTERVAL;VALUE=DURATION:PT1H
X-Robots-Tag:noindex
X-PUBLISHED-TTL:PT1H
BEGIN:VTIMEZONE
TZID:Europe/Vienna
BEGIN:DAYLIGHT
TZOFFSETFROM:+0100
TZOFFSETTO:+0200
TZNAME:CEST
DTSTART:20250330T010000
END:DAYLIGHT
BEGIN:STANDARD
TZOFFSETFROM:+0200
TZOFFSETTO:+0100
TZNAME:CET
DTSTART:20251026T010000
END:STANDARD
BEGIN:DAYLIGHT
TZOFFSETFROM:+0100
TZOFFSETTO:+0200
TZNAME:CEST
DTSTART:20260329T010000
END:DAYLIGHT
BEGIN:STANDARD
TZOFFSETFROM:+0200
TZOFFSETTO:+0100
TZNAME:CET
DTSTART:20261025T010000
END:STANDARD
BEGIN:DAYLIGHT
TZOFFSETFROM:+0100
TZOFFSETTO:+0200
TZNAME:CEST
DTSTART:20270328T010000
END:DAYLIGHT
BEGIN:STANDARD
TZOFFSETFROM:+0200
TZOFFSETTO:+0100
TZNAME:CET
DTSTART:20271031T010000
END:STANDARD
END:VTIMEZONE
BEGIN:VEVENT
DTSTART;TZID=Europe/Vienna:20261201T190000
DTEND;TZID=Europe/Vienna:20261201T190000
DTSTAMP:20260424T175300
CREATED:20251128T091216Z
LAST-MODIFIED:20251128T091218Z
UID:2807-1796151600-1796151600@family-support.net
SUMMARY:Elternwissen to go „Wenn „Stille Nacht“ sehr laut wird“ – ONLINE
DESCRIPTION:mit Margit Bonatti\, ONLINE \n\n\n\nKostenloser Vortrag\, gefördert von Bundeskanzleramt und Land Tirol. \n\n\n\n\n\n\n\nChristkind\, Familienbesuche\, Silvester…wieviele emotionale Feuerwerke verträgt dein Kind? (Foto: Pexels) \n\n\n\nDieser Vortrag ist kostenlos und inkl. Teilnahmebestätigung.Eine Anmeldung ist erforderlich unter verein.fs@gmail.com \n\n\n\nWir freuen uns auf zahlreiche Teilnahme.
URL:https://family-support.net/event/elternwissen-to-go-wenn-stille-nacht-sehr-laut-wird-online/
CATEGORIES:Elternkurs,Für Eltern
END:VEVENT
END:VCALENDAR